BEGIN:VCALENDAR
VERSION:2.0
PRODID:-//Squarespace Inc/Squarespace 6//v6//EN
BEGIN:VEVENT
UID:5c2d0933562fa795d8a5ec0f@squarespace.com
DTSTAMP:20190102T185708Z
DTSTART:20191107T223000Z
DTEND:20191107T233000Z
SUMMARY:Springfield Unit
GEO:40.720756;-74.000761
LOCATION:IBEW Local 51\, 3171 Greenhead Dr.\, Springfield\, IL
END:VEVENT
END:VCALENDAR
