BEGIN:VCALENDAR
VERSION:2.0
PRODID:-//Squarespace Inc/Squarespace 6//v6//EN
BEGIN:VEVENT
UID:5c2cf7ef8985832b199a6568@squarespace.com
DTSTAMP:20190102T174239Z
DTSTART:20191107T220000Z
DTEND:20191107T230000Z
SUMMARY:Galesburg Unit
GEO:40.720756;-74.000761
LOCATION:Knoxville American Legion\, 749 Henderson Rd.\, Knoxville\, IL
END:VEVENT
END:VCALENDAR
