BEGIN:VCALENDAR
VERSION:2.0
PRODID:-//Squarespace Inc/Squarespace 6//v6//EN
BEGIN:VEVENT
UID:5c2cf7a90e2e72e38da0722c@squarespace.com
DTSTAMP:20190102T174120Z
DTSTART:20191106T220000Z
DTEND:20191106T230000Z
SUMMARY:Lincoln Unit
GEO:40.720756;-74.000761
LOCATION:KC Hall\, 217 Limit St.\, Lincoln\, IL
END:VEVENT
END:VCALENDAR
