BEGIN:VCALENDAR
VERSION:2.0
PRODID:-//Squarespace Inc/Squarespace 6//v6//EN
BEGIN:VEVENT
UID:5c2cf7c9352f53619af6b6de@squarespace.com
DTSTAMP:20190102T174156Z
DTSTART:20191106T230000Z
DTEND:20191107T000000Z
SUMMARY:LaSalle Unit
GEO:40.720756;-74.000761
LOCATION:Eagles Lodge\, 830 Harrison St.\, Peru\, IL
END:VEVENT
END:VCALENDAR
