BEGIN:VCALENDAR
VERSION:2.0
PRODID:-//Squarespace Inc/Squarespace 6//v6//EN
BEGIN:VEVENT
UID:5c2cf77c0e2e72e38da0701c@squarespace.com
DTSTAMP:20190102T174044Z
DTSTART:20191106T210000Z
DTEND:20191106T220000Z
SUMMARY:Clinton Unit
GEO:34.137246;-118.358096
LOCATION:1520 E. South St.\, Clinton\, IL
END:VEVENT
END:VCALENDAR
