BEGIN:VCALENDAR
VERSION:2.0
PRODID:-//Squarespace Inc/Squarespace 6//v6//EN
BEGIN:VEVENT
UID:5c2cf727352f53619af6ad8d@squarespace.com
DTSTAMP:20190102T173921Z
DTSTART:20191105T210000Z
DTEND:20191105T220000Z
SUMMARY:Havana Unit
GEO:41.501297;-81.699342
LOCATION:VFW\, 425 W. Ave.\, Havana\, IL
END:VEVENT
END:VCALENDAR
