BEGIN:VCALENDAR
VERSION:2.0
PRODID:-//Squarespace Inc/Squarespace 6//v6//EN
BEGIN:VEVENT
UID:5c2cf7531ae6cf9b886b7480@squarespace.com
DTSTAMP:20190102T173958Z
DTSTART:20191105T230000Z
DTEND:20191106T000000Z
SUMMARY:Bloomington Unit
GEO:40.720756;-74.000761
LOCATION:IBEW Local 197\, 2407 Beich Rd\, Suite A\, Bloomington\, IL
END:VEVENT
END:VCALENDAR
