BEGIN:VCALENDAR
VERSION:2.0
PRODID:-//Squarespace Inc/Squarespace 6//v6//EN
BEGIN:VEVENT
UID:5c1bcdcac2241b1875fc5577@squarespace.com
DTSTAMP:20181220T171412Z
DTSTART:20191128T120000Z
DTEND:20191129T220000Z
SUMMARY:Office Closed - Thanksgiving Holiday
END:VEVENT
END:VCALENDAR
