BEGIN:VCALENDAR
VERSION:2.0
PRODID:-//Squarespace Inc/Squarespace 6//v6//EN
BEGIN:VEVENT
UID:5c1bcd9e758d46c10a36b362@squarespace.com
DTSTAMP:20181220T171335Z
DTSTART:20191121T140000Z
DTEND:20191121T180000Z
SUMMARY:Executive Board
GEO:40.720756;-74.000761
LOCATION:IBEW Local 51\, 3171 Greenhead Dr.\, Springfield\, IL
END:VEVENT
END:VCALENDAR
