BEGIN:VCALENDAR
VERSION:2.0
PRODID:-//Squarespace Inc/Squarespace 6//v6//EN
BEGIN:VEVENT
UID:5c2d0c7eb8a0456c72e9ca3a@squarespace.com
DTSTAMP:20190102T191018Z
DTSTART:20191114T213000Z
DTEND:20191114T223000Z
SUMMARY:Peoria Unit
GEO:40.720756;-74.000761
LOCATION:VFW 2602\, 1505 E. Lake St.\, Peoria Heights\, IL
END:VEVENT
END:VCALENDAR
