BEGIN:VCALENDAR
VERSION:2.0
PRODID:-//Squarespace Inc/Squarespace 6//v6//EN
BEGIN:VEVENT
UID:5c2d0a3e8985832b199b797d@squarespace.com
DTSTAMP:20190102T190035Z
DTSTART:20191114T203000Z
DTEND:20191114T213000Z
SUMMARY:Decatur Unit
GEO:40.720756;-74.000761
LOCATION:IBEW Local 146\, 3390 N. Woodford St.\, Decatur\, IL
END:VEVENT
END:VCALENDAR
