BEGIN:VCALENDAR
VERSION:2.0
PRODID:-//Squarespace Inc/Squarespace 6//v6//EN
BEGIN:VEVENT
UID:5c2d0a0e562fa795d8a5fe27@squarespace.com
DTSTAMP:20190403T184815Z
DTSTART:20191114T003000Z
DTEND:20191114T013000Z
SUMMARY:Jacksonville Unit
GEO:39.73497;-90.22795
LOCATION:American Legion Post 279\, 903 W. Superior Ave.\, Jacksonville\, I
 L
END:VEVENT
END:VCALENDAR
