BEGIN:VCALENDAR
VERSION:2.0
PRODID:-//Squarespace Inc/Squarespace 6//v6//EN
BEGIN:VEVENT
UID:5c2d09e3562fa795d8a5faa3@squarespace.com
DTSTAMP:20190102T185916Z
DTSTART:20191113T210000Z
DTEND:20191113T220000Z
SUMMARY:Baldwin Unit
GEO:40.720756;-74.000761
LOCATION:Bullpen\, 101 N. Van Buren St.\, New Athens\, IL
END:VEVENT
END:VCALENDAR
