BEGIN:VCALENDAR
VERSION:2.0
PRODID:-//Squarespace Inc/Squarespace 6//v6//EN
BEGIN:VEVENT
UID:5c1bcd79352f53a53c83855c@squarespace.com
DTSTAMP:20181220T171247Z
DTSTART:20191111T120000Z
DTEND:20191111T220000Z
SUMMARY:Office Closed - Veterans Day Holiday
END:VEVENT
END:VCALENDAR
