BEGIN:VCALENDAR
VERSION:2.0
PRODID:-//Squarespace Inc/Squarespace 6//v6//EN
BEGIN:VEVENT
UID:5c2cf3fb4d7a9c2ebb16aae7@squarespace.com
DTSTAMP:20190403T184850Z
DTSTART:20191009T233000Z
DTEND:20191010T003000Z
SUMMARY:Jacksonville Unit
GEO:40.720756;-74.000761
LOCATION:American Legion Post 279\, 903 W. Superior Ave.\, Jacksonville\, I
 L
END:VEVENT
END:VCALENDAR
