BEGIN:VCALENDAR
VERSION:2.0
PRODID:-//Squarespace Inc/Squarespace 6//v6//EN
BEGIN:VEVENT
UID:5c2cf3d54ae2379d32496d94@squarespace.com
DTSTAMP:20190102T172502Z
DTSTART:20191009T200000Z
DTEND:20191009T210000Z
SUMMARY:Baldwin Unit
GEO:40.720756;-74.000761
LOCATION:Bullpen\, 101 N. Van Buren St.\, New Athens\, IL
END:VEVENT
END:VCALENDAR
