BEGIN:VCALENDAR
VERSION:2.0
PRODID:-//Squarespace Inc/Squarespace 6//v6//EN
BEGIN:VEVENT
UID:5c2cf3b40ebbe85745020e83@squarespace.com
DTSTAMP:20191028T160847Z
DTSTART:20191008T210000Z
DTEND:20191008T220000Z
SUMMARY:Champaign Unit
GEO:40.720756;-74.000761
LOCATION:VFW Post 5520\, 609 Edgebrook\, Champaign\, IL
END:VEVENT
END:VCALENDAR
