BEGIN:VCALENDAR
VERSION:2.0
PRODID:-//Squarespace Inc/Squarespace 6//v6//EN
BEGIN:VEVENT
UID:5c2cf3688a922d1c5ec0bef2@squarespace.com
DTSTAMP:20190102T172314Z
DTSTART:20191003T210000Z
DTEND:20191003T220000Z
SUMMARY:Wood River Unit
GEO:40.720756;-74.000761
LOCATION:IBEW Local 309\, 2000A Mall St.\, Collinsville\, IL
END:VEVENT
END:VCALENDAR
