BEGIN:VCALENDAR
VERSION:2.0
PRODID:-//Squarespace Inc/Squarespace 6//v6//EN
BEGIN:VEVENT
UID:5c1bcd33c2241b1875fc4e04@squarespace.com
DTSTAMP:20181220T171133Z
DTSTART:20191026T130000Z
DTEND:20191026T170000Z
SUMMARY:Executive Board
END:VEVENT
END:VCALENDAR
