BEGIN:VCALENDAR
VERSION:2.0
PRODID:-//Squarespace Inc/Squarespace 6//v6//EN
BEGIN:VEVENT
UID:5c2cf3178985832b199a1151@squarespace.com
DTSTAMP:20190102T172155Z
DTSTART:20191002T220000Z
DTEND:20191002T230000Z
SUMMARY:LaSalle Unit
GEO:40.720756;-74.000761
LOCATION:Eagles Lodge\, 830 Harrison St.\, Peru\, IL
END:VEVENT
END:VCALENDAR
