BEGIN:VCALENDAR
VERSION:2.0
PRODID:-//Squarespace Inc/Squarespace 6//v6//EN
BEGIN:VEVENT
UID:5c2cf2b28985832b199a0967@squarespace.com
DTSTAMP:20190102T172042Z
DTSTART:20191002T200000Z
DTEND:20191002T210000Z
SUMMARY:Clinton Unit
GEO:36.597611;-95.977882
LOCATION:1520 E. South St.\, Clinton\, IL\, United States
END:VEVENT
END:VCALENDAR
