BEGIN:VCALENDAR
VERSION:2.0
PRODID:-//Squarespace Inc/Squarespace 6//v6//EN
BEGIN:VEVENT
UID:5c1bcd1240ec9af19d0c2ba1@squarespace.com
DTSTAMP:20181220T171103Z
DTSTART:20191012T130000Z
DTEND:20191012T170000Z
SUMMARY:ALBAT Training
GEO:40.720756;-74.000761
LOCATION:Decatur\, IL
END:VEVENT
END:VCALENDAR
