BEGIN:VCALENDAR
VERSION:2.0
PRODID:-//Squarespace Inc/Squarespace 6//v6//EN
BEGIN:VEVENT
UID:5c2cf45c758d46566d2094cb@squarespace.com
DTSTAMP:20190102T172717Z
DTSTART:20191010T203000Z
DTEND:20191010T213000Z
SUMMARY:Peoria Unit
GEO:40.720756;-74.000761
LOCATION:VFW 2602\, 1505 E. Lake St.\, Peoria Heights\, IL
END:VEVENT
END:VCALENDAR
