BEGIN:VCALENDAR
VERSION:2.0
PRODID:-//Squarespace Inc/Squarespace 6//v6//EN
BEGIN:VEVENT
UID:5c2cf41e8985832b199a20f0@squarespace.com
DTSTAMP:20190102T172615Z
DTSTART:20191010T193000Z
DTEND:20191010T203000Z
SUMMARY:Decatur Unit
GEO:44.078098;-123.121121
LOCATION:IBEW Local 146\, 3390 N. Woodford St.\, Decatur\, IL
END:VEVENT
END:VCALENDAR
