BEGIN:VCALENDAR
VERSION:2.0
PRODID:-//Squarespace Inc/Squarespace 6//v6//EN
BEGIN:VEVENT
UID:5c2cf4408985832b199a2334@squarespace.com
DTSTAMP:20190102T172643Z
DTSTART:20191010T203000Z
DTEND:20191010T213000Z
SUMMARY:Decatur Unit 15
GEO:40.720756;-74.000761
LOCATION:IBEW Local 146\, 3390 N. Woodford St.\, Decatur\, IL
END:VEVENT
END:VCALENDAR
