BEGIN:VCALENDAR
VERSION:2.0
PRODID:-//Squarespace Inc/Squarespace 6//v6//EN
BEGIN:VEVENT
UID:5c2ceef68a922d1c5ec07dd5@squarespace.com
DTSTAMP:20190102T170420Z
DTSTART:20191001T200000Z
DTEND:20191001T210000Z
SUMMARY:Havana Unit
GEO:40.720756;-74.000761
LOCATION:VFW\, 425 W. Ave.\, Havana\, IL
END:VEVENT
END:VCALENDAR
