BEGIN:VCALENDAR
VERSION:2.0
PRODID:-//Squarespace Inc/Squarespace 6//v6//EN
BEGIN:VEVENT
UID:5c2cef1d352f53619af62f42@squarespace.com
DTSTAMP:20190102T171044Z
DTSTART:20191001T220000Z
DTEND:20191001T230000Z
SUMMARY:Bloomington Unit
GEO:40.720756;-74.000761
LOCATION:IBEW Local 197\, 2407 Beich Rd. Suite A\, Bloomington\, IL
END:VEVENT
END:VCALENDAR
