BEGIN:VCALENDAR
VERSION:2.0
PRODID:-//Squarespace Inc/Squarespace 6//v6//EN
BEGIN:VEVENT
UID:5c1bcced40ec9af19d0c29ef@squarespace.com
DTSTAMP:20181220T171026Z
DTSTART:20191001T110000Z
DTEND:20191001T200000Z
SUMMARY:4Qtr2019 Union Dues
END:VEVENT
END:VCALENDAR
