BEGIN:VCALENDAR
VERSION:2.0
PRODID:-//Squarespace Inc/Squarespace 6//v6//EN
BEGIN:VEVENT
UID:5c1a59522b6a2818034504ac@squarespace.com
DTSTAMP:20181219T144540Z
DTSTART:20190110T003000Z
DTEND:20190110T013000Z
SUMMARY:Jacksonville Unit
GEO:41.497;-81.699422
LOCATION:American Legion\, 903 West Superior Avenue\, Jacksonville\, IL\, U
 nited States
END:VEVENT
END:VCALENDAR
