BEGIN:VCALENDAR
VERSION:2.0
PRODID:-//Squarespace Inc/Squarespace 6//v6//EN
BEGIN:VEVENT
UID:5c1a58f74ae237bbedaf6a8d@squarespace.com
DTSTAMP:20181219T144844Z
DTSTART:20190109T210000Z
DTEND:20190109T220000Z
SUMMARY:Baldwin Unit
GEO:38.325814;-89.878503
LOCATION:Bullpen\, 101 N. Van Buren St.\, New Athens IL
END:VEVENT
END:VCALENDAR
