BEGIN:VCALENDAR
VERSION:2.0
PRODID:-//Squarespace Inc/Squarespace 6//v6//EN
BEGIN:VEVENT
UID:5c1a56e40e2e72842011680a@squarespace.com
DTSTAMP:20181219T143439Z
DTSTART:20190108T210000Z
DTEND:20190108T220000Z
SUMMARY:Havana Unit
GEO:40.785275;-73.98073
LOCATION:VFW\, 425 W. Ave\, Havana\, IL
END:VEVENT
END:VCALENDAR
