BEGIN:VCALENDAR
VERSION:2.0
PRODID:-//Squarespace Inc/Squarespace 6//v6//EN
BEGIN:VEVENT
UID:5c1a57082b6a28180344e65d@squarespace.com
DTSTAMP:20181219T143516Z
DTSTART:20190108T223000Z
DTEND:20190108T233000Z
SUMMARY:Champaign Unit
GEO:36.166264;-115.317048
LOCATION:VFW Post 5520\, 609 Edgebrook\, Champaign\, IL
END:VEVENT
END:VCALENDAR
