BEGIN:VCALENDAR
VERSION:2.0
PRODID:-//Squarespace Inc/Squarespace 6//v6//EN
BEGIN:VEVENT
UID:5c1a572d1ae6cf41019c71a6@squarespace.com
DTSTAMP:20181219T143555Z
DTSTART:20190108T230000Z
DTEND:20190109T000000Z
SUMMARY:Bloomington Unit
GEO:40.478711;-89.007099
LOCATION:IBEW Local 197\, 2407 Beich Road\, Suite A\, Bloomington IL
END:VEVENT
END:VCALENDAR
