BEGIN:VCALENDAR
VERSION:2.0
PRODID:-//Squarespace Inc/Squarespace 6//v6//EN
BEGIN:VEVENT
UID:5c1a557321c67cc2be5799f3@squarespace.com
DTSTAMP:20181219T142823Z
DTSTART:20190103T223000Z
DTEND:20190103T233000Z
SUMMARY:Springfield Unit
GEO:39.743445;-89.712261
LOCATION:IBEW Local 51\, 3171 Greenhead Dr.\, Springfield IL
END:VEVENT
END:VCALENDAR
