BEGIN:VCALENDAR
VERSION:2.0
PRODID:-//Squarespace Inc/Squarespace 6//v6//EN
BEGIN:VEVENT
UID:5c1a551340ec9a3a8803bdef@squarespace.com
DTSTAMP:20181219T142702Z
DTSTART:20190103T220000Z
DTEND:20190103T230000Z
SUMMARY:Galesburg Unit
GEO:40.917245;-90.293155
LOCATION:Knoxville American Legion\, 749 Henderson Rd\, Knoxville\, IL
END:VEVENT
END:VCALENDAR
