BEGIN:VCALENDAR
VERSION:2.0
PRODID:-//Squarespace Inc/Squarespace 6//v6//EN
BEGIN:VEVENT
UID:5c1a5b494fa51a1d4d696ba1@squarespace.com
DTSTAMP:20181219T145348Z
DTSTART:20190126T140000Z
DTEND:20190126T170000Z
SUMMARY:Executive Board
GEO:39.743445;-89.712261
LOCATION:IBEW Local 51\, 3171 Greenhead Dr\, Decatur\, IL
END:VEVENT
END:VCALENDAR
