BEGIN:VCALENDAR
VERSION:2.0
PRODID:-//Squarespace Inc/Squarespace 6//v6//EN
BEGIN:VEVENT
UID:5c1a5af44ae237bbedaf88a0@squarespace.com
DTSTAMP:20181219T145158Z
DTSTART:20190126T120000Z
DTEND:20190126T130000Z
SUMMARY:DOT Physicals
GEO:40.720756;-74.000761
LOCATION:IBEW Local 51\, 3171 Greenhead Dr.\, Springfield\, IL
END:VEVENT
END:VCALENDAR
