BEGIN:VCALENDAR
VERSION:2.0
PRODID:-//Squarespace Inc/Squarespace 6//v6//EN
BEGIN:VEVENT
UID:5c2cdaeb03ce64cdbb55a2b1@squarespace.com
DTSTAMP:20190102T154106Z
DTSTART:20190121T050000Z
DTEND:20190126T045900Z
SUMMARY:ALBAT Applications Accepted
END:VEVENT
END:VCALENDAR
