BEGIN:VCALENDAR
VERSION:2.0
PRODID:-//Squarespace Inc/Squarespace 6//v6//EN
BEGIN:VEVENT
UID:5c1a54c1f950b7e7cd483594@squarespace.com
DTSTAMP:20181219T142536Z
DTSTART:20190102T220000Z
DTEND:20190102T230000Z
SUMMARY:Lincoln Unit
GEO:40.139853;-89.349298
LOCATION:KC Hall\, 217 Limit Street\, Lincoln\, IL
END:VEVENT
END:VCALENDAR
