BEGIN:VCALENDAR
VERSION:2.0
PRODID:-//Squarespace Inc/Squarespace 6//v6//EN
BEGIN:VEVENT
UID:5c1a54eb4fa51a950d4192b2@squarespace.com
DTSTAMP:20181219T142615Z
DTSTART:20190102T230000Z
DTEND:20190103T000000Z
SUMMARY:LaSalle Unit
GEO:26.010888;-80.121879
LOCATION:Eagles Lodge\, 830 Harrison St.\, Peru\, IL
END:VEVENT
END:VCALENDAR
