BEGIN:VCALENDAR
VERSION:2.0
PRODID:-//Squarespace Inc/Squarespace 6//v6//EN
BEGIN:VEVENT
UID:5c1a53e3c2241b58bb76e666@squarespace.com
DTSTAMP:20181219T142343Z
DTSTART:20190102T210000Z
DTEND:20190102T220000Z
SUMMARY:Clinton Unit
GEO:41.242279;-75.887725
LOCATION:E. South St.\, Clinton\, IL
END:VEVENT
END:VCALENDAR
