BEGIN:VCALENDAR
VERSION:2.0
PRODID:-//Squarespace Inc/Squarespace 6//v6//EN
BEGIN:VEVENT
UID:5c1a5ac66d2a734991e7110e@squarespace.com
DTSTAMP:20181219T145118Z
DTSTART:20190112T140000Z
DTEND:20190112T180000Z
SUMMARY:ALBAT Training
GEO:40.720756;-74.000761
LOCATION:Decatur
END:VEVENT
END:VCALENDAR
