BEGIN:VCALENDAR
VERSION:2.0
PRODID:-//Squarespace Inc/Squarespace 6//v6//EN
BEGIN:VEVENT
UID:5c1a5a9e8985835c86148b4e@squarespace.com
DTSTAMP:20181219T145026Z
DTSTART:20190112T003000Z
DTEND:20190112T013000Z
SUMMARY:Construction Unit
GEO:40.720756;-74.000761
LOCATION:IBEW Local 51\, 3171 Greenhead Dr.\, Springfield IL
END:VEVENT
END:VCALENDAR
