BEGIN:VCALENDAR
VERSION:2.0
PRODID:-//Squarespace Inc/Squarespace 6//v6//EN
BEGIN:VEVENT
UID:5c1a5a78b8a0456b5bad6057@squarespace.com
DTSTAMP:20181219T144956Z
DTSTART:20190110T213000Z
DTEND:20190110T223000Z
SUMMARY:Peoria Unit
GEO:42.514233;-83.471304
LOCATION:VFW 2602\, 1505 E. Lake St.\, Peoria Heights\, IL
END:VEVENT
END:VCALENDAR
