BEGIN:VCALENDAR
VERSION:2.0
PRODID:-//Squarespace Inc/Squarespace 6//v6//EN
BEGIN:VEVENT
UID:5c1a59b22b6a281803450949@squarespace.com
DTSTAMP:20181219T144820Z
DTSTART:20190110T203000Z
DTEND:20190110T213000Z
SUMMARY:Decatur Unit
GEO:39.884262;-88.935513
LOCATION:IBEW Local 146\, 3390 N. Woodford  St.\, Decatur\, IL
END:VEVENT
END:VCALENDAR
