BEGIN:VCALENDAR
VERSION:2.0
PRODID:-//Squarespace Inc/Squarespace 6//v6//EN
BEGIN:VEVENT
UID:5c1a5483aa4a99a6d605e767@squarespace.com
DTSTAMP:20181219T142434Z
DTSTART:20190101T120000Z
DTEND:20190101T130000Z
SUMMARY:1Qtr2019 Union Dues
END:VEVENT
END:VCALENDAR
