BEGIN:VCALENDAR
VERSION:2.0
PRODID:-//Squarespace Inc/Squarespace 6//v6//EN
BEGIN:VEVENT
UID:5a3a907a8165f505dc9f7fd8@squarespace.com
DTSTAMP:20171220T163214Z
DTSTART:20180908T130000Z
DTEND:20180908T170000Z
SUMMARY:ALBAT Training
GEO:39.840315;-88.9548
LOCATION:Decatur\, IL
END:VEVENT
END:VCALENDAR
