BEGIN:VCALENDAR
VERSION:2.0
PRODID:-//Squarespace Inc/Squarespace 6//v6//EN
BEGIN:VEVENT
UID:5a396e9b24a6940a32330ffb@squarespace.com
DTSTAMP:20171219T195521Z
DTSTART:20180906T210000Z
DTEND:20180906T220000Z
SUMMARY:Wood River Unit
GEO:38.673065;-90.014011
LOCATION:IBEW Local 309\, 2000A Mall Street\, Collinsville\, IL\, 62234\, U
 nited States
END:VEVENT
END:VCALENDAR
