BEGIN:VCALENDAR
VERSION:2.0
PRODID:-//Squarespace Inc/Squarespace 6//v6//EN
BEGIN:VEVENT
UID:5a3a909b24a694938444b5ab@squarespace.com
DTSTAMP:20171220T163308Z
DTSTART:20180903T110000Z
DTEND:20180903T210000Z
SUMMARY:Office Closed Labor Day
END:VEVENT
END:VCALENDAR
