BEGIN:VCALENDAR
VERSION:2.0
PRODID:-//Squarespace Inc/Squarespace 6//v6//EN
BEGIN:VEVENT
UID:5a3a8c744192023912450bc8@squarespace.com
DTSTAMP:20171220T161523Z
DTSTART:20180922T130000Z
DTEND:20180922T140000Z
SUMMARY:Executive Board
GEO:39.743406;-89.714875
LOCATION:IBEW Local 51\, 3171 Green Head Drive\, Springfield\, IL\, 62711\, 
 United States
END:VEVENT
END:VCALENDAR
